BEGIN:VCALENDAR
VERSION:2.0
PRODID:-// South Island Rowing - ECPv6.15.20//NONSGML v1.0//EN
CALSCALE:GREGORIAN
METHOD:PUBLISH
X-WR-CALNAME: South Island Rowing
X-ORIGINAL-URL:https://ruataniwha.co.nz
X-WR-CALDESC:Events for  South Island Rowing
REFRESH-INTERVAL;VALUE=DURATION:PT1H
X-Robots-Tag:noindex
X-PUBLISHED-TTL:PT1H
BEGIN:VTIMEZONE
TZID:Pacific/Auckland
BEGIN:STANDARD
TZOFFSETFROM:+1300
TZOFFSETTO:+1200
TZNAME:NZST
DTSTART:20220402T140000
END:STANDARD
BEGIN:DAYLIGHT
TZOFFSETFROM:+1200
TZOFFSETTO:+1300
TZNAME:NZDT
DTSTART:20220924T140000
END:DAYLIGHT
BEGIN:STANDARD
TZOFFSETFROM:+1300
TZOFFSETTO:+1200
TZNAME:NZST
DTSTART:20230401T140000
END:STANDARD
BEGIN:DAYLIGHT
TZOFFSETFROM:+1200
TZOFFSETTO:+1300
TZNAME:NZDT
DTSTART:20230923T140000
END:DAYLIGHT
BEGIN:STANDARD
TZOFFSETFROM:+1300
TZOFFSETTO:+1200
TZNAME:NZST
DTSTART:20240406T140000
END:STANDARD
BEGIN:DAYLIGHT
TZOFFSETFROM:+1200
TZOFFSETTO:+1300
TZNAME:NZDT
DTSTART:20240928T140000
END:DAYLIGHT
END:VTIMEZONE
BEGIN:VEVENT
DTSTART;TZID=Pacific/Auckland:20230128T073000
DTEND;TZID=Pacific/Auckland:20230129T150000
DTSTAMP:20260422T043329
CREATED:20220526T010330Z
LAST-MODIFIED:20220613T073827Z
UID:1893-1674891000-1675004400@ruataniwha.co.nz
SUMMARY:2023 Meridian S.I. Rowing Championships
DESCRIPTION:
URL:https://ruataniwha.co.nz/index.php/event/2023-s-i-rowing-championships/
LOCATION:Lake Ruataniwha\, 50 Kate Cameron Drive\, Twizel\, Canterbury\, 7901\, New Zealand
CATEGORIES:Regattas
ORGANIZER;CN="South Island Rowing Inc.":MAILTO:secretary@ruataniwha.co.nz
END:VEVENT
END:VCALENDAR